BEGIN:VCALENDAR
VERSION:2.0
PRODID:-//wp-events-plugin.com//7.2.3.1//EN
TZID:Europe/Vienna
X-WR-TIMEZONE:Europe/Vienna
BEGIN:VEVENT
UID:21@buehne-hstein.at
DTSTART;TZID=Europe/Vienna:20220319T200000
DTEND;TZID=Europe/Vienna:20220319T223000
DTSTAMP:20210727T192247Z
URL:https://www.buehne-hstein.at/veranstaltungen/20-000-meilen-unter-dem-m
 eer-derniere/
SUMMARY:20.000 Meilen unter dem Meer (Dernière)
DESCRIPTION:
CATEGORIES:Aufführung
LOCATION:Margithalle\, Margitweg 10\, Heidenreichstein\, 3860\, Österreich
X-APPLE-STRUCTURED-LOCATION;VALUE=URI;X-ADDRESS=Margitweg 10\, Heidenreichs
 tein\, 3860\, Österreich;X-APPLE-RADIUS=100;X-TITLE=Margithalle:geo:0,0
END:VEVENT
BEGIN:VEVENT
UID:28@buehne-hstein.at
DTSTART;TZID=Europe/Vienna:20220618T200000
DTEND;TZID=Europe/Vienna:20220618T220000
DTSTAMP:20211103T185621Z
URL:https://www.buehne-hstein.at/veranstaltungen/mit-besten-empfehlungen-d
 erniere/
SUMMARY:Mit besten Empfehlungen (Dernière)
DESCRIPTION:
CATEGORIES:Aufführung
LOCATION:Volksheim\, Anton-Böhm-Gasse 6\, Heidenreichstein\, 3860\, Öster
 reich
X-APPLE-STRUCTURED-LOCATION;VALUE=URI;X-ADDRESS=Anton-Böhm-Gasse 6\, Heide
 nreichstein\, 3860\, Österreich;X-APPLE-RADIUS=100;X-TITLE=Volksheim:geo:
 0,0
END:VEVENT
BEGIN:VEVENT
UID:36@buehne-hstein.at
DTSTART;TZID=Europe/Vienna:20220815T203000
DTEND;TZID=Europe/Vienna:20220815T230000
DTSTAMP:20220526T130243Z
URL:https://www.buehne-hstein.at/veranstaltungen/don-camillo-und-seine-her
 de-derniere/
SUMMARY:Don Camillo und seine Herde (Dernière)
DESCRIPTION:
CATEGORIES:Aufführung
LOCATION:Pfarrhof\, Kirchenplatz 4\, Heidenreichstein\, 3860\, Österreich
X-APPLE-STRUCTURED-LOCATION;VALUE=URI;X-ADDRESS=Kirchenplatz 4\, Heidenreic
 hstein\, 3860\, Österreich;X-APPLE-RADIUS=100;X-TITLE=Pfarrhof:geo:0,0
END:VEVENT
BEGIN:VEVENT
UID:86@buehne-hstein.at
DTSTART;TZID=Europe/Vienna:20221126T170000
DTEND;TZID=Europe/Vienna:20221126T190000
DTSTAMP:20221122T080031Z
URL:https://www.buehne-hstein.at/veranstaltungen/salma-und-leilah-derniere
 /
SUMMARY:Salma und Leilah (Dernière) Abgesagt!!!
DESCRIPTION:
CATEGORIES:Aufführung
LOCATION:Margithalle\, Margitweg 10\, Heidenreichstein\, 3860\, Österreich
X-APPLE-STRUCTURED-LOCATION;VALUE=URI;X-ADDRESS=Margitweg 10\, Heidenreichs
 tein\, 3860\, Österreich;X-APPLE-RADIUS=100;X-TITLE=Margithalle:geo:0,0
END:VEVENT
BEGIN:VEVENT
UID:228@buehne-hstein.at
DTSTART;TZID=Europe/Vienna:20230815T203000
DTEND;TZID=Europe/Vienna:20230815T223000
DTSTAMP:20230423T155548Z
URL:https://www.buehne-hstein.at/veranstaltungen/jeanne-darc-die-jungfrau-
 von-orleans-derniere/
SUMMARY:Jeanne d’Arc – Die Jungfrau von Orléans (Derniere)
DESCRIPTION:
CATEGORIES:Aufführung
LOCATION:Pfarrhof\, Kirchenplatz 4\, Heidenreichstein\, 3860\, Österreich
X-APPLE-STRUCTURED-LOCATION;VALUE=URI;X-ADDRESS=Kirchenplatz 4\, Heidenreic
 hstein\, 3860\, Österreich;X-APPLE-RADIUS=100;X-TITLE=Pfarrhof:geo:0,0
END:VEVENT
BEGIN:VEVENT
UID:237@buehne-hstein.at
DTSTART;TZID=Europe/Vienna:20231202T170000
DTEND;TZID=Europe/Vienna:20231202T184500
DTSTAMP:20231120T192025Z
URL:https://www.buehne-hstein.at/veranstaltungen/nussknacker-und-mausekoen
 ig-derniere/
SUMMARY:Nussknacker und Mausekönig (Derniere)
DESCRIPTION:
CATEGORIES:Aufführung
LOCATION:Volksheim\, Anton-Böhm-Gasse 6\, Heidenreichstein\, 3860\, Öster
 reich
X-APPLE-STRUCTURED-LOCATION;VALUE=URI;X-ADDRESS=Anton-Böhm-Gasse 6\, Heide
 nreichstein\, 3860\, Österreich;X-APPLE-RADIUS=100;X-TITLE=Volksheim:geo:
 0,0
END:VEVENT
BEGIN:VEVENT
UID:316@buehne-hstein.at
DTSTART;TZID=Europe/Vienna:20240511T200000
DTEND;TZID=Europe/Vienna:20240511T223000
DTSTAMP:20240125T065010Z
URL:https://www.buehne-hstein.at/veranstaltungen/die-nashoerner-derniere/
SUMMARY:Die Nashörner (Dernière)
DESCRIPTION:
CATEGORIES:Aufführung
LOCATION:Volksheim\, Anton-Böhm-Gasse 6\, Heidenreichstein\, 3860\, Öster
 reich
X-APPLE-STRUCTURED-LOCATION;VALUE=URI;X-ADDRESS=Anton-Böhm-Gasse 6\, Heide
 nreichstein\, 3860\, Österreich;X-APPLE-RADIUS=100;X-TITLE=Volksheim:geo:
 0,0
END:VEVENT
BEGIN:VEVENT
UID:324@buehne-hstein.at
DTSTART;TZID=Europe/Vienna:20240818T203000
DTEND;TZID=Europe/Vienna:20240818T223000
DTSTAMP:20240818T180234Z
URL:https://www.buehne-hstein.at/veranstaltungen/das-indische-tuch-8-vorst
 ellung/
SUMMARY:Das indische Tuch (Dernière)
DESCRIPTION:
CATEGORIES:Aufführung
LOCATION:Burghof\, Schremser Strasse 1\, Heidenreichstein\, 3860\, Österre
 ich
X-APPLE-STRUCTURED-LOCATION;VALUE=URI;X-ADDRESS=Schremser Strasse 1\, Heide
 nreichstein\, 3860\, Österreich;X-APPLE-RADIUS=100;X-TITLE=Burghof:geo:0,
 0
END:VEVENT
BEGIN:VEVENT
UID:332@buehne-hstein.at
DTSTART;TZID=Europe/Vienna:20241130T170000
DTEND;TZID=Europe/Vienna:20241130T182000
DTSTAMP:20241121T104436Z
URL:https://www.buehne-hstein.at/veranstaltungen/eine-weihnachtsgeschichte
 -derniere/
SUMMARY:Eine Weihnachtsgeschichte (Dernière)
DESCRIPTION:
CATEGORIES:Aufführung
LOCATION:Volksheim\, Anton-Böhm-Gasse 6\, Heidenreichstein\, 3860\, Öster
 reich
X-APPLE-STRUCTURED-LOCATION;VALUE=URI;X-ADDRESS=Anton-Böhm-Gasse 6\, Heide
 nreichstein\, 3860\, Österreich;X-APPLE-RADIUS=100;X-TITLE=Volksheim:geo:
 0,0
END:VEVENT
BEGIN:VEVENT
UID:480@buehne-hstein.at
DTSTART;TZID=Europe/Vienna:20250517T200000
DTEND;TZID=Europe/Vienna:20250517T220000
DTSTAMP:20241217T061000Z
URL:https://www.buehne-hstein.at/veranstaltungen/detective-jack-hornby-in-
 die-jagd-nach-dem-wolf-6-vorstellung/
SUMMARY:Detective Jack Hornby in: Die Jagd nach dem Wolf (Dernière)
DESCRIPTION:\n\n
CATEGORIES:Aufführung
LOCATION:Volksheim\, Anton-Böhm-Gasse 6\, Heidenreichstein\, 3860\, Öster
 reich
X-APPLE-STRUCTURED-LOCATION;VALUE=URI;X-ADDRESS=Anton-Böhm-Gasse 6\, Heide
 nreichstein\, 3860\, Österreich;X-APPLE-RADIUS=100;X-TITLE=Volksheim:geo:
 0,0
END:VEVENT
BEGIN:VEVENT
UID:497@buehne-hstein.at
DTSTART;TZID=Europe/Vienna:20251129T170000
DTEND;TZID=Europe/Vienna:20251129T183000
DTSTAMP:20250722T202722Z
URL:https://www.buehne-hstein.at/veranstaltungen/die-zauberfloete-derniere
 /
SUMMARY:Die Zauberflöte (Dernière)
DESCRIPTION:\n\n\n\n\n\n
CATEGORIES:Aufführung
LOCATION:Margithalle\, Margitweg 10\, Heidenreichstein\, 3860\, Österreich
X-APPLE-STRUCTURED-LOCATION;VALUE=URI;X-ADDRESS=Margitweg 10\, Heidenreichs
 tein\, 3860\, Österreich;X-APPLE-RADIUS=100;X-TITLE=Margithalle:geo:0,0
END:VEVENT
BEGIN:VEVENT
UID:590@buehne-hstein.at
DTSTART;TZID=Europe/Vienna:20260516T200000
DTEND;TZID=Europe/Vienna:20260516T220000
DTSTAMP:20251209T153738Z
URL:https://www.buehne-hstein.at/veranstaltungen/kabarett-xlv-derniere/
SUMMARY:Kabarett XLV (Dernière)
DESCRIPTION:
CATEGORIES:Aufführung
LOCATION:Volksheim\, Anton-Böhm-Gasse 6\, Heidenreichstein\, 3860\, Öster
 reich
X-APPLE-STRUCTURED-LOCATION;VALUE=URI;X-ADDRESS=Anton-Böhm-Gasse 6\, Heide
 nreichstein\, 3860\, Österreich;X-APPLE-RADIUS=100;X-TITLE=Volksheim:geo:
 0,0
END:VEVENT
BEGIN:VEVENT
UID:598@buehne-hstein.at
DTSTART;TZID=Europe/Vienna:20260816T203000
DTEND;TZID=Europe/Vienna:20260816T230000
DTSTAMP:20260420T185328Z
URL:https://www.buehne-hstein.at/veranstaltungen/pension-schoeller-dernier
 e/
SUMMARY:Pension Schöller (Dernière)
DESCRIPTION:
CATEGORIES:Aufführung
LOCATION:Burghof\, Schremser Strasse 1\, Heidenreichstein\, 3860\, Österre
 ich
X-APPLE-STRUCTURED-LOCATION;VALUE=URI;X-ADDRESS=Schremser Strasse 1\, Heide
 nreichstein\, 3860\, Österreich;X-APPLE-RADIUS=100;X-TITLE=Burghof:geo:0,
 0
END:VEVENT
BEGIN:VTIMEZONE
TZID:Europe/Vienna
X-LIC-LOCATION:Europe/Vienna
BEGIN:STANDARD
DTSTART:20211031T020000
TZOFFSETFROM:+0200
TZOFFSETTO:+0100
TZNAME:CET
END:STANDARD
BEGIN:DAYLIGHT
DTSTART:20220327T030000
TZOFFSETFROM:+0100
TZOFFSETTO:+0200
TZNAME:CEST
END:DAYLIGHT
BEGIN:STANDARD
DTSTART:20221030T020000
TZOFFSETFROM:+0200
TZOFFSETTO:+0100
TZNAME:CET
END:STANDARD
BEGIN:DAYLIGHT
DTSTART:20230326T030000
TZOFFSETFROM:+0100
TZOFFSETTO:+0200
TZNAME:CEST
END:DAYLIGHT
BEGIN:STANDARD
DTSTART:20231029T020000
TZOFFSETFROM:+0200
TZOFFSETTO:+0100
TZNAME:CET
END:STANDARD
BEGIN:DAYLIGHT
DTSTART:20240331T030000
TZOFFSETFROM:+0100
TZOFFSETTO:+0200
TZNAME:CEST
END:DAYLIGHT
BEGIN:STANDARD
DTSTART:20241027T020000
TZOFFSETFROM:+0200
TZOFFSETTO:+0100
TZNAME:CET
END:STANDARD
BEGIN:DAYLIGHT
DTSTART:20250330T030000
TZOFFSETFROM:+0100
TZOFFSETTO:+0200
TZNAME:CEST
END:DAYLIGHT
BEGIN:STANDARD
DTSTART:20251026T020000
TZOFFSETFROM:+0200
TZOFFSETTO:+0100
TZNAME:CET
END:STANDARD
BEGIN:DAYLIGHT
DTSTART:20260329T030000
TZOFFSETFROM:+0100
TZOFFSETTO:+0200
TZNAME:CEST
END:DAYLIGHT
END:VTIMEZONE
END:VCALENDAR